BEGIN:VCALENDAR
VERSION:2.0
PRODID:-//TEACH Cleburne - ECPv6.15.20//NONSGML v1.0//EN
CALSCALE:GREGORIAN
METHOD:PUBLISH
X-WR-CALNAME:TEACH Cleburne
X-ORIGINAL-URL:https://teachcleburne.com
X-WR-CALDESC:Events for TEACH Cleburne
REFRESH-INTERVAL;VALUE=DURATION:PT1H
X-Robots-Tag:noindex
X-PUBLISHED-TTL:PT1H
BEGIN:VTIMEZONE
TZID:UTC
BEGIN:STANDARD
TZOFFSETFROM:+0000
TZOFFSETTO:+0000
TZNAME:UTC
DTSTART:20250101T000000
END:STANDARD
END:VTIMEZONE
BEGIN:VEVENT
DTSTART;TZID=UTC:20260505T180000
DTEND;TZID=UTC:20260505T200000
DTSTAMP:20260420T003207
CREATED:20250220T175618Z
LAST-MODIFIED:20260402T150641Z
UID:6041-1778004000-1778011200@teachcleburne.com
SUMMARY:Spring Finale Fine Arts Showcase 2026
DESCRIPTION:Theater\, Band\, and Bible Club classes will have presentations and performances to celebrate our end of the year. Open to parents and visitors alike.
URL:https://teachcleburne.com/event/spring-finale-showcase-2026/
LOCATION:Bethel Temple\, 600 S Colonial Dr\, Cleburne\, TX\, 76033\, United States
ORGANIZER;CN="Brook Deaton":MAILTO:director@teachcleburne.com
END:VEVENT
BEGIN:VEVENT
DTSTART;TZID=UTC:20260507T170000
DTEND;TZID=UTC:20260507T190000
DTSTAMP:20260420T003207
CREATED:20260402T150848Z
LAST-MODIFIED:20260402T150848Z
UID:8174-1778173200-1778180400@teachcleburne.com
SUMMARY:Open House + Spring Finale Academic Showcase
DESCRIPTION:Come and see what we have been up to! All classes will have presentations set up in the gym to celebrate our end of the year. Open to parents and visitors alike.
URL:https://teachcleburne.com/event/open-house-spring-finale-academic-showcase/
LOCATION:Bethel Temple\, 600 S Colonial Dr\, Cleburne\, TX\, 76033\, United States
ORGANIZER;CN="Brook Deaton":MAILTO:director@teachcleburne.com
END:VEVENT
BEGIN:VEVENT
DTSTART;VALUE=DATE:20260514
DTEND;VALUE=DATE:20260515
DTSTAMP:20260420T003207
CREATED:20250220T175725Z
LAST-MODIFIED:20250220T175734Z
UID:6043-1778716800-1778803199@teachcleburne.com
SUMMARY:Last Day of School 2026
DESCRIPTION:Last day of school
URL:https://teachcleburne.com/event/last-day-of-school/
LOCATION:TX
CATEGORIES:First and Last Day of School
END:VEVENT
BEGIN:VEVENT
DTSTART;VALUE=DATE:20260514
DTEND;VALUE=DATE:20260515
DTSTAMP:20260420T003207
CREATED:20260216T231043Z
LAST-MODIFIED:20260224T174006Z
UID:8046-1778716800-1778803199@teachcleburne.com
SUMMARY:2026/27 Early Elementary Registration (current students only)
DESCRIPTION:  \nCome register with us for the 2026/27 school year! Early registration for elementary classes will take place after dismissal on May 14th. Contact teachers directly via our website to ensure you have all registration forms printed ahead of time.
URL:https://teachcleburne.com/event/2026-27-early-elementary-registration-current-students-only/
LOCATION:TX
CATEGORIES:First and Last Day of School,Registration and Orientation Events
END:VEVENT
BEGIN:VEVENT
DTSTART;VALUE=DATE:20260601
DTEND;VALUE=DATE:20260602
DTSTAMP:20260420T003207
CREATED:20260216T230219Z
LAST-MODIFIED:20260216T230219Z
UID:8040-1780272000-1780358399@teachcleburne.com
SUMMARY:2026/27 Registration Night #1
DESCRIPTION:Come register with us for the 2026/27 school year! Elementary Placement testing will take place 1-3pm for new students – please email us at director@teachcleburne.com if you plan to attend. Open registration for all classes will take place 5-7pm. Contact teachers directly via our website to ensure you have all registration forms printed ahead of time.
URL:https://teachcleburne.com/event/2026-27-registration-night-1/
LOCATION:Bethel Temple\, 600 S Colonial Dr\, Cleburne\, TX\, 76033\, United States
CATEGORIES:Registration and Orientation Events
ORGANIZER;CN="Brook Deaton":MAILTO:director@teachcleburne.com
END:VEVENT
BEGIN:VEVENT
DTSTART;VALUE=DATE:20260720
DTEND;VALUE=DATE:20260721
DTSTAMP:20260420T003207
CREATED:20260216T230540Z
LAST-MODIFIED:20260216T231302Z
UID:8043-1784505600-1784591999@teachcleburne.com
SUMMARY:2026/27 Registration Night #2
DESCRIPTION:Come register with us for the 2026/27 school year! Elementary Placement testing will take place 1-3pm for new students – please email us at director@teachcleburne.com if you plan to attend. Open registration for all classes will take place 5-7pm. Contact teachers directly via our website to ensure you have all registration forms printed ahead of time.
URL:https://teachcleburne.com/event/2026-27-registration-night-2/
LOCATION:Bethel Temple\, 600 S Colonial Dr\, Cleburne\, TX\, 76033\, United States
CATEGORIES:Registration and Orientation Events
ORGANIZER;CN="Brook Deaton":MAILTO:director@teachcleburne.com
END:VEVENT
END:VCALENDAR